BEGIN:VCALENDAR
VERSION:2.0
PRODID:-//Katoke Trust for Overseas Aid - ECPv6.10.3//NONSGML v1.0//EN
CALSCALE:GREGORIAN
METHOD:PUBLISH
X-ORIGINAL-URL:https://katoke.org.au
X-WR-CALDESC:Events for Katoke Trust for Overseas Aid
REFRESH-INTERVAL;VALUE=DURATION:PT1H
X-Robots-Tag:noindex
X-PUBLISHED-TTL:PT1H
BEGIN:VTIMEZONE
TZID:Australia/Sydney
BEGIN:STANDARD
TZOFFSETFROM:+1100
TZOFFSETTO:+1000
TZNAME:AEST
DTSTART:20160402T160000
END:STANDARD
BEGIN:DAYLIGHT
TZOFFSETFROM:+1000
TZOFFSETTO:+1100
TZNAME:AEDT
DTSTART:20161001T160000
END:DAYLIGHT
BEGIN:STANDARD
TZOFFSETFROM:+1100
TZOFFSETTO:+1000
TZNAME:AEST
DTSTART:20170401T160000
END:STANDARD
BEGIN:DAYLIGHT
TZOFFSETFROM:+1000
TZOFFSETTO:+1100
TZNAME:AEDT
DTSTART:20170930T160000
END:DAYLIGHT
BEGIN:STANDARD
TZOFFSETFROM:+1100
TZOFFSETTO:+1000
TZNAME:AEST
DTSTART:20180331T160000
END:STANDARD
BEGIN:DAYLIGHT
TZOFFSETFROM:+1000
TZOFFSETTO:+1100
TZNAME:AEDT
DTSTART:20181006T160000
END:DAYLIGHT
BEGIN:STANDARD
TZOFFSETFROM:+1100
TZOFFSETTO:+1000
TZNAME:AEST
DTSTART:20190406T160000
END:STANDARD
BEGIN:DAYLIGHT
TZOFFSETFROM:+1000
TZOFFSETTO:+1100
TZNAME:AEDT
DTSTART:20191005T160000
END:DAYLIGHT
BEGIN:STANDARD
TZOFFSETFROM:+1100
TZOFFSETTO:+1000
TZNAME:AEST
DTSTART:20200404T160000
END:STANDARD
BEGIN:DAYLIGHT
TZOFFSETFROM:+1000
TZOFFSETTO:+1100
TZNAME:AEDT
DTSTART:20201003T160000
END:DAYLIGHT
END:VTIMEZONE
BEGIN:VEVENT
DTSTART;TZID=Australia/Sydney:20200601T080000
DTEND;TZID=Australia/Sydney:20200630T170000
DTSTAMP:20260421T230102
CREATED:20200511T061238Z
LAST-MODIFIED:20200513T064344Z
UID:3092-1590998400-1593536400@katoke.org.au
SUMMARY:Ks for Katoke
DESCRIPTION:Are you up for the challenge?\nThe majority of Katoke-Lweru Secondary School (KLSS) students live on-site but some travel each day from local villages. In June we challenge you to take the journey to school alongside the KLSS students and help us RAISE $50\,000 so that we can continue to provide children with the priceless gift of education. \nHow to get involved\nRegister before the end of May…. then RUN\, REACH & RAISE in June. \n \n1. RUN\nRUN\, walk or get active in June\nSet yourself a distance (km) or time target (mins).\nHow far are you going to run or walk in kilometers each day? You might choose to set a time target instead  – be active for 30 minutes a day. \n2. REACH\nREACH out to your friends and family\, tell them about Katoke\, your fundraising goal and ask them to sponsor you. \n3. RAISE\nThis financial year\, we are looking for your help to reach our goal to RAISE fifty thousand dollars in order to continue to expand and maintain our current support for education in Tanzania. Already the Katoke Trust. \nJoin our (virtual) K’s for Katoke Launch Party on the 19th of May. Sign up here. \nHow you’ll be supporting kids in need\nThe money you raise will help the Katoke Trust continue its life changing work in Tanzania. \nSome of our immediate needs include \nSTUDENT SPONSORSHIP – The Trust established the Katoke-Lweru Secondary School to meet the great need for secondary education in Tanzania. Through your ongoing support we have educated over a thousand students in the last 11 years. But there are still many children who aren’t able to attend KLSS  due to their family and financial circumstances. Would you help us raise funds in order to sponsor these students? \nREMOTE LEARNING – The COVID-19 pandemic has affected the world in many different ways. Here in Australia it’s meant that most school students have been forced to study from home\, this is also the case in Tanzania. However\, KLSS students do not have their own school supplies\, textbooks\, stationery or even computers. Would you help us raise funds in order to equip teachers to support students and provide crucial supplies for these children? \nHEALTH LITERACY – A vital component of the Katoke Trust’s ongoing fight against poverty has been our malaria-prevention education program which has seen malaria reduced in local villages from over 60% of people infected per annum to about 10%. The Katoke Trust has been facilitating health education and equipping local villages with personal hygiene products in order to help combat COVID-19 in Tanzania\, where hospitals and healthcare are not readily available to all. Would you help us raise funds to support our ongoing malaria-prevention programs\, and provide health-care workers and local villagers with the means to combat COVID-19?.
URL:https://katoke.org.au/event/ks-for-katoke-2/
LOCATION:NSW
ATTACH;FMTTYPE=image/jpeg:https://katoke.org.au/wp-content/uploads/2020/05/ksforkatokemarketingv2.jpg
END:VEVENT
BEGIN:VEVENT
DTSTART;TZID=Australia/Sydney:20191101T183000
DTEND;TZID=Australia/Sydney:20191101T210000
DTSTAMP:20260421T230102
CREATED:20191002T000447Z
LAST-MODIFIED:20191002T000736Z
UID:2981-1572633000-1572642000@katoke.org.au
SUMMARY:2019 Katoke Trust Annual Benefit Dinner
DESCRIPTION:The 22nd Annual Katoke Trust Benefit Dinner will be held on Friday\, 1 November 2019! Join us in good company for an enjoyable and informative dinner. Celebrate all the good work that has happened in Katoke over the past year. Together we will raise funds to support the Katoke community and help give the gift of education. \nThe doors will open at 6.30pm. Dinner will be served around 7pm. Please book your tickets as early as possible\, no later than 25 Oct. This event has sold out in the past. \n  \nCLICK HERE TO BOOK TICKETS
URL:https://katoke.org.au/event/2019-katoke-trust-annual-benefit-dinner/
LOCATION:NSW
END:VEVENT
BEGIN:VEVENT
DTSTART;TZID=Australia/Sydney:20190921T183000
DTEND;TZID=Australia/Sydney:20190921T213000
DTSTAMP:20260421T230102
CREATED:20190831T032607Z
LAST-MODIFIED:20190831T032703Z
UID:2969-1569090600-1569101400@katoke.org.au
SUMMARY:Engaruka School Project Launch
DESCRIPTION:
URL:https://katoke.org.au/event/engaruka-school-project-launch/
LOCATION:St Thomas Anglican Church\, McLaren St North Sydney\, McLaren St &\, Church St\,\, North Sydney\, NSW\, 2060\, Australia
ATTACH;FMTTYPE=image/png:https://katoke.org.au/wp-content/uploads/2019/08/Eng-photo-800x800.png
ORGANIZER;CN="Barb Lucas":MAILTO:barblucas@optusnet.com.au
END:VEVENT
BEGIN:VEVENT
DTSTART;TZID=Australia/Sydney:20190508T193000
DTEND;TZID=Australia/Sydney:20190508T210000
DTSTAMP:20260421T230102
CREATED:20190425T072719Z
LAST-MODIFIED:20190425T074616Z
UID:2886-1557343800-1557349200@katoke.org.au
SUMMARY:Katoke Trust Annual General Meeting
DESCRIPTION:Our AGM is Wednesday\, May 8 at 7.30pm in Gymea\, NSW. Please contact Alan Watson on 0422 225 556 for further details. Nominations are received for all positions.
URL:https://katoke.org.au/event/katoke-trust-annual-general-meeting/
LOCATION:NSW
END:VEVENT
BEGIN:VEVENT
DTSTART;TZID=Australia/Sydney:20181102T183000
DTEND;TZID=Australia/Sydney:20181102T223000
DTSTAMP:20260421T230102
CREATED:20180308T123435Z
LAST-MODIFIED:20180901T223329Z
UID:2609-1541183400-1541197800@katoke.org.au
SUMMARY:21st Katoke Trust Annual Benefit Dinner 2018
DESCRIPTION:You’re invited to help change the lives of over 500 students in rural Tanzania… All while enjoying a delicious meal and some great company. \nThe Katoke Trust 21st annual benefit dinner is set to be bigger and better than our previous events and tickets have already started selling. The dinner is a key fundraising program for Katoke Trust\, a voluntary\, grass-roots organisation founded by the impossibly charming Professor Alan Watson. \nWith your help\, Alan and the dedicated Katoke Trust volunteer team in Australia and Tanzania can continue their work. \nAll it takes is a generous attitude and a little bit of room in your stomach to help change the lives of over 500 young Tanzanians\, their families and their community. \nFriday 2nd of November 2018 – 6.30pm\nTradies – The Kingsway\, Gymea\nTickets\, entertainment and keynote speakers – TBC  – Includes 2-course dinner\, live entertainment and great company. \nYou can book your tickets HERE \nWe look forward to seeing you on the night! \n 
URL:https://katoke.org.au/event/21st-katoke-trust-annual-benefit-dinner-2018/
LOCATION:NSW
CATEGORIES:Katoke Trust Events
ATTACH;FMTTYPE=image/jpeg:https://katoke.org.au/wp-content/uploads/2018/03/Katoke-Annual-Dinner-2018.jpg
ORGANIZER;CN="Katoke Trust for Overseas Aid":MAILTO:info@katoke.org.au
END:VEVENT
BEGIN:VEVENT
DTSTART;TZID=Australia/Sydney:20180620T193000
DTEND;TZID=Australia/Sydney:20180620T210000
DTSTAMP:20260421T230102
CREATED:20180519T063133Z
LAST-MODIFIED:20180528T074424Z
UID:2692-1529523000-1529528400@katoke.org.au
SUMMARY:Katoke Annual General Meeting 2017
DESCRIPTION:Our AGM for the financial year 2017/2018 is on Wednesday\, 20 June at 7.30pm at the home of Karen Springstub\, 16 Manchester Road\, Gymea. \nNominations are received for all positions. \nAll welcome. Please RSVP to Alan Watson (awatson@unsw.edu.au)
URL:https://katoke.org.au/event/katoke-annual-general-meeting-2017-2/
LOCATION:Event location\, 16 Manchester Road\, Gymea\, New South Wales\, 2227\, Australia
CATEGORIES:Katoke Trust Events
ATTACH;FMTTYPE=image/png:https://katoke.org.au/wp-content/uploads/2016/03/Screen-Shot-2018-02-24-at-2.25.25-pm.png
ORGANIZER;CN="Alan Watson":MAILTO:awatson@unsw.edu.au
END:VEVENT
BEGIN:VEVENT
DTSTART;TZID=Australia/Sydney:20171103T183000
DTEND;TZID=Australia/Sydney:20171103T220000
DTSTAMP:20260421T230102
CREATED:20170828T093520Z
LAST-MODIFIED:20180308T101736Z
UID:2171-1509733800-1509746400@katoke.org.au
SUMMARY:20th Katoke Annual Benefit Dinner 2017
DESCRIPTION:Help give the gift of education! You’re invited to a relaxing\, entertaining and informative evening to raise much needed funds to improve living conditions in rural western Tanzania. Katoke Trust’s main project is the construction and operation of Katoke-Lweru Secondary School. In 2017\, building activities including further dormitories\, staff accommodation and a set of classrooms to meet the growing requirements of the school in 2018. But we need your help to complete these buildings! \nThis year’s Dinner marks the 20th annual benefit dinner at the Tradies – what a wonderful milestone! Please buy your tickets early as tickets will sell out! \nTicket price includes 2 course meal. \nClick here to buy tickets
URL:https://katoke.org.au/event/20th-katoke-annual-benefit-dinner/
LOCATION:Tradies\, Cnr of Kingsway & Manchester Rd \, Gymea\, NSW\, 2227\, Australia
ORGANIZER;CN="Hal Balderston":MAILTO:events@katoke.org.au
END:VEVENT
BEGIN:VEVENT
DTSTART;TZID=Australia/Sydney:20170419T200000
DTEND;TZID=Australia/Sydney:20170419T220000
DTSTAMP:20260421T230102
CREATED:20170220T072751Z
LAST-MODIFIED:20170220T072751Z
UID:2127-1492632000-1492639200@katoke.org.au
SUMMARY:Katoke Annual General Meeting 2017
DESCRIPTION:For further details\, please contact Alan Watson (a.watson@unsw.edu.au)
URL:https://katoke.org.au/event/katoke-annual-general-meeting-2017/
LOCATION:Unnamed Venue\, Gymea\, 2227
END:VEVENT
BEGIN:VEVENT
DTSTART;TZID=Australia/Sydney:20161104T183000
DTEND;TZID=Australia/Sydney:20161104T223000
DTSTAMP:20260421T230102
CREATED:20160801T091648Z
LAST-MODIFIED:20161103T220003Z
UID:2046-1478284200-1478298600@katoke.org.au
SUMMARY:2016 Katoke Annual Dinner
DESCRIPTION:CLICK HERE TO HELP BUILD A DORM \nYou’re invited to a relaxing\, entertaining and informative evening to raise awareness and funds for the Katoke Trust’s current activities which includes the construction and operation of a secondary school in Katoke\, Tanzania. \nAt this year’s dinner we will be joined by special guests: The String Family. \nIt is shaping up to be an event not to be missed! \nBuy your tickets….\nOnline | CLICK HERE TO BUY TICKETS\nPhone | Ebony 0403 015 677
URL:https://katoke.org.au/event/2016-katoke-annual-dinner/
LOCATION:Tradies\, Cnr of Kingsway & Manchester Rd \, Gymea\, NSW\, 2227\, Australia
ORGANIZER;CN="Hal Balderston":MAILTO:events@katoke.org.au
END:VEVENT
BEGIN:VEVENT
DTSTART;TZID=Australia/Sydney:20160924T190000
DTEND;TZID=Australia/Sydney:20161002T170000
DTSTAMP:20260421T230102
CREATED:20160202T100656Z
LAST-MODIFIED:20180308T122007Z
UID:1809-1474743600-1475427600@katoke.org.au
SUMMARY:Great Western 8 Day Fundraising Bike Ride
DESCRIPTION:RIDING TO EDUCATE CHILDREN IN AFRICA \nFor one of the best cycle rides ever\, with a great route\, great countryside\, great people and for a great purpose…. Join us on the Great Western Ride this September! \nDATES | Sunday 25th September to Sunday 2nd October 2016. \nTHE RIDE | 8 Days and 888 kilometres or an average daily distance of 110.9km per day – Sleep overnight at Bathurst on Saturday 24th September 2016 with the first group leaving at 7.30 am Sunday 25th. See full itinerary at the link: Great Western Ride Itinerary. \nHOW DO I GET INVOLVED? |  \n1) Sign up and set up your fundraising page: The first step to sign up is to contact Jim Blaxland on j.bx@bigpond.com or 0409 590 468. \n2) Sponsor a rider at our fundraising page*: Each registered rider has their own fundraising page. Find the rider you’d like to sponsor at:  \nRide fundraising page\n*All donations are tax deductible! As the Trust is run by volunteers virtually 100% of funds raised go directly to projects on the ground. \nRIDE COSTS | $585 for cyclists completing the 8 day ride or $299 for support crew. But you can also ride for FREE! Click here to find out more: Ride for free! \nNote: Part time riding is available at a rate of $100 per day or part day. \nOUR GOAL | To raise awareness and fundraise for the Katoke – Lweru Secondary in Katoke\, Tanzania. Our fundraising target is $80\,000 which will provide the necessary funds to complete the Staff Accommodation project which will house many teachers in 2017. Sketches of the Staff Accommodation project and it’s location in the broader School Master plan are shown below.\n \n \nTRANSPORT | Transport to and from the start and finish of the ride is each participants own responsibility and cost. \nACCOMMODATION | Each participant will need to bring their own Airbed (Inflation Pumps are provided) and Sleeping Bag. Our accommodation will be in a variety of halls – schools\, churches\, recreation centres etc. Showers are also arranged daily. \nMEALS | Breakfast\, Morning Tea\, Dinner\, on road ride snacks and fruit is provided to keep you going. For evening dinners you are provided with a generous & wholesome two courses\, a main and dessert\, anything else you may feel like eating or drinking at dinner\, including beverages\, is at your own expense. \nOTHER | We also provide track pumps\, spare wheels\, used tyres for temporary use\, tools\, electric pumps for airbeds\, clothes washing gear\, sunscreen\, hand wash and toiletry items. The ride is fully supported with support vehicles who will carry your luggage\, all you have to do is just get on your bike and ride off with your riding group\, how good and easy is that! \n \nHOW FIT DO I NEED TO BE? | Each rider needs to be proficient\, experienced\, skilful and competent on their bikes to be able to ride as a part of a group of cyclists. Each rider must be able to maintain an average minimum speed of 25 kilometres an hour\, anything less and you will automatically be uplifted in one of our support vehicles. We will have a number of riding groups and it is your choice as to what pace group you prefer and who you ride with.  No rider will be left alone to ride by themselves. \nREGISTER YOUR INTEREST TODAY | Contact Jim Blaxland now on 0409 590 468 or email j.bx@bigpond.com \nNEED FOR INFO? | Please contact Jim Blaxland for more information about this great cycling adventure. Please contact David Lefcovitch for more information on donations and fundraising: davelefco@gmail.com
URL:https://katoke.org.au/event/great-western-bike-ride/
LOCATION:NSW
CATEGORIES:Fundraising Events - Cycling
ATTACH;FMTTYPE=image/jpeg:https://katoke.org.au/wp-content/uploads/2016/05/Katoke-ride-shot-with-bikesv2.jpg
ORGANIZER;CN="Jim Blaxland":MAILTO:j.bx@bigpond.com
END:VEVENT
BEGIN:VEVENT
DTSTART;TZID=Australia/Sydney:20160318T190000
DTEND;TZID=Australia/Sydney:20160320T170000
DTSTAMP:20260421T230102
CREATED:20160114T111322Z
LAST-MODIFIED:20180308T121909Z
UID:1496-1458327600-1458493200@katoke.org.au
SUMMARY:Lithgow to Bathurst Weekend Fundraising Ride
DESCRIPTION:RIDING TO EDUCATE CHILDREN IN AFRICA \nEducation is the most sustainable form of aid and is the cornerstone of our work. Katoke’s mission is to build healthier and better-educated communities in north-western Tanzania by equipping individuals caught in the poverty trap of subsistence living\, to take charge of\, and continue their own development. \nIn 2016\, the Katoke Trust will be again running the Katoke Cycle Series to raise awareness and funds for communities doing it tough in Tanzania. Our next ride is Lithgow to Bathurst return. \nThere are two ways you can support this initiative\n1. Sign up for ride. Contact Jim Blaxland on j.bx@bigpond.com or 0409 590 468. \n2. Sponsor a rider here \n*All donations are tax deductible! As the Trust is run by volunteers virtually 100% of funds raised go directly to projects on the ground. \n  \nROUTE\, DISTANCE\, ELEVATION GRADIENT DETAILS \nDay 1 Saturday 19th March 2016 – Lidsdale to Bathurst plus a lap of Mt Panorama (102-109 km) Day 1 ride route \nDay 2 Sunday 20th March 2016 – Bathurst to Lidsdale (87km) Day 2 ride route.\nNote: The route is on fully sealed roads and mainly on back roads with minimal traffic. However the route does include 4.5km each day on the Great Western Highway and parts of the route are on very narrow shoulders. Cyclists will need to exercise extreme caution throughout the ride but especially in these areas. \n  \nKEY RIDE DETAILS\nRide cost: Weekend rate of $165 includes accommodation\, food and drinks\, support crew supplies (e.g. track pump\, spare tyres\, sunscreen)  (Day 1 only rate is $97.50 including dinner\, and Day 2 only rate is $77.50) \nHow fit do I need to be to ride? There are some good uphills and downhills on this ride and it should only be tackled by regular and experienced cyclists. Riders should be proficient and experienced in riding in a group. Groups will be set based on pace with the slowest group heading off first on Saturday morning. If you would like to discuss your fitness before registering for the ride please contact Jim Blaxland (0409 590 468). \nWhat do I need to bring? Riding gear including a spare tube and puncture kit\, sleeping bag and pillow\, air bed for Saturday night. \nStart and end point of the ride: Marantha Campsite\, Lidsdale. Free overnight parking available. Access on Friday 18th March from 5.30pm til 9pm. \n  \nFURTHER DETAILS ON THE RIDE \n\nSaturday night accommodation is Bathurst High Campus – hot showers available on-site.\nSaturday night dinner includes a main meal and dessert. Beverages to be purchased by cyclists.\nYour luggage will be transported in the support vehicles. Please restrict your luggage to no more than 15kg\nEach cyclist is fully responsible for ensuring they have appropriate health (hospital\, medical\, ambulance) and third party insurance.
URL:https://katoke.org.au/event/lithgow-to-bathurst-weekend-fundraising-ride/
LOCATION:Lidsdale\, Maranatha Campsite\, 57 View St\, Lithgow\, NSW\, 2790\, Australia
CATEGORIES:Fundraising Events - Cycling
ATTACH;FMTTYPE=image/jpeg:https://katoke.org.au/wp-content/uploads/2016/01/Katoke-cycle-series-image.jpg
ORGANIZER;CN="Jim Blaxland":MAILTO:j.bx@bigpond.com
END:VEVENT
END:VCALENDAR